BEGIN:VCALENDAR
PRODID:-//AT Content Types//AT Event//EN
VERSION:2.0
METHOD:PUBLISH
BEGIN:VEVENT
DTSTAMP:20260423T142135Z
CREATED:20170927T173743Z
UID:ATEvent-95c08cfefbd04db09d2d8bf33b8a9321
LAST-MODIFIED:20170927T173743Z
SUMMARY:Free Yoga
DTSTART:20180112T163000Z
DTEND:20180112T173000Z
DESCRIPTION:FENCE offers a free yoga series on Friday mornings held in
  the FENCE great room. The yoga classes are led by local instructor Rh
 onda Giles. All ages and yoga enthusiasts of all levels are welcome!
CATEGORIES:Family
CONTACT:Tracie Hanson\, 828-859-9021\, info@fence.org
CLASS:PUBLIC
END:VEVENT
END:VCALENDAR
