BEGIN:VCALENDAR
PRODID:-//AT Content Types//AT Event//EN
VERSION:1.0
BEGIN:VEVENT
DTSTART:20171215T163000Z
DTEND:20171215T173000Z
DCREATED:20170927T173437Z
UID:ATEvent-ebbb79f39f3445e08818206d966c4798
SEQUENCE:0
LAST-MODIFIED:20170927T173437Z
SUMMARY:Free Yoga
DESCRIPTION:FENCE offers a free yoga series on Friday mornings held in
  the FENCE great room. The yoga classes are led by local instructor Rh
 onda Giles. All ages and yoga enthusiasts of all levels are welcome!
PRIORITY:3
TRANSP:0
END:VEVENT
END:VCALENDAR
