BEGIN:VCALENDAR
PRODID:-//AT Content Types//AT Event//EN
VERSION:1.0
BEGIN:VEVENT
DTSTART:20171117T163000Z
DTEND:20171117T173000Z
DCREATED:20170927T160442Z
UID:ATEvent-9417d171e64a4973af12407bff5517c2
SEQUENCE:0
LAST-MODIFIED:20170927T160442Z
SUMMARY:Free Yoga
DESCRIPTION:FENCE offers a free yoga series on Friday mornings held in
  the FENCE great room. The yoga classes are led by local instructor Rh
 onda Giles. All ages and yoga enthusiasts of all levels are welcome!
PRIORITY:3
TRANSP:0
END:VEVENT
END:VCALENDAR
