BEGIN:VCALENDAR
PRODID:-//AT Content Types//AT Event//EN
VERSION:2.0
METHOD:PUBLISH
BEGIN:VEVENT
DTSTAMP:20260423T142134Z
CREATED:20170927T154613Z
UID:ATEvent-885d208a33dc403584a05c38690d2aed
LAST-MODIFIED:20170927T154614Z
SUMMARY:Free Yoga
DTSTART:20171013T153000Z
DTEND:20171013T163000Z
DESCRIPTION:FENCE offers a free yoga series on Friday mornings held in
  the FENCE great room. The yoga classes are led by local instructor Rh
 onda Giles. All ages and yoga enthusiasts of all levels are welcome!
CONTACT:Tracie Hanson\, 828-859-9021\, info@fence.org
CLASS:PUBLIC
END:VEVENT
END:VCALENDAR
