BEGIN:VCALENDAR
PRODID:-//AT Content Types//AT Event//EN
VERSION:1.0
BEGIN:VEVENT
DTSTART:20171006T153000Z
DTEND:20171006T163000Z
DCREATED:20170927T153925Z
UID:ATEvent-8dd8c49ed24e43c8bedfb82ee9d1d871
SEQUENCE:0
LAST-MODIFIED:20170927T153926Z
SUMMARY:Free Yoga
DESCRIPTION:FENCE offers a free yoga series on Friday mornings held in
  the FENCE great room. The yoga classes are led by local instructor Rh
 onda Giles. All ages and yoga enthusiasts of all levels are welcome.
PRIORITY:3
TRANSP:0
END:VEVENT
END:VCALENDAR
