BEGIN:VCALENDAR
PRODID:-//AT Content Types//AT Event//EN
VERSION:2.0
METHOD:PUBLISH
BEGIN:VEVENT
DTSTAMP:20260423T115056Z
CREATED:20170524T125804Z
UID:ATEvent-25e08ddca2d14896805dbc6566d53312
LAST-MODIFIED:20170524T125804Z
SUMMARY:FREE Yoga
DTSTART:20170630T153000Z
DTEND:20170630T163000Z
DESCRIPTION:FENCE will be offering a free yoga series on Friday mornin
 gs held in the FENCE great room. The yoga classes are lead by local in
 structor Rhonda Giles. All ages and yoga enthusiasts of all levels are
  welcome. Attendees are encouraged to bring a water bottle to the clas
 s. Yoga mats will be available for use. These classes are made possibl
 e by the free community event grant at Polk County Community Foundatio
 n.
LOCATION:FENCE Center
CATEGORIES:Family
CONTACT:Tracie Hanson\, 8288599021\, info@fence.org
CLASS:PUBLIC
END:VEVENT
END:VCALENDAR
