BEGIN:VCALENDAR
PRODID:-//AT Content Types//AT Event//EN
VERSION:2.0
METHOD:PUBLISH
BEGIN:VEVENT
DTSTAMP:20260423T191432Z
CREATED:20250820T145316Z
UID:ATEvent-c7884d4e1e004e3883a2cb1568c044bb
LAST-MODIFIED:20250820T145316Z
SUMMARY:FREE Holiday Concert - Tom Fisch
DTSTART:20251214T210000Z
DTEND:20251214T235500Z
CLASS:PUBLIC
END:VEVENT
END:VCALENDAR
