BEGIN:VCALENDAR
PRODID:-//AT Content Types//AT Event//EN
VERSION:2.0
METHOD:PUBLISH
BEGIN:VEVENT
DTSTAMP:20260423T120002Z
CREATED:20121129T211229Z
UID:ATEvent-50ee5e1b-f74c-43e9-a5c8-0b8473c6911b
LAST-MODIFIED:20121129T211229Z
SUMMARY:Free Gardening Seminar on Chain Saws
DTSTART:20121210T150000Z
DTEND:20121210T160000Z
DESCRIPTION:The Gardening Seminarâ€™s featured speaker will be FENCEâ€
 ™s own Joey Thompson. \n â€œIf thereâ€™s anyone who knows about how to
  use a chain saw safely and efficiently itâ€™s Joey â€œ\, said FENCE E
 xec. Director Carrie Knox.\n     The emphasis of the demonstration and
  talk will be safe operation and care of this very useful but potentia
 lly dangerous tool.\n     This last of the 2012 FENCE Gardening Semina
 r series is offered free of charge with the support of the Kirby Endow
 ment Fund at the Polk County Community Foundation and will be held at 
 10 AM in FENCEâ€™s new classroom.  Attendees should drive to and park 
 in the back parking lot where you may enter the classroom.  Refreshmen
 ts will be served.
LOCATION:FENCE Nature Classroom
CONTACT:Tracie Hanson\, 828-859-9021\, info@fence.org
CLASS:PUBLIC
END:VEVENT
END:VCALENDAR
