BEGIN:VCALENDAR
PRODID:-//AT Content Types//AT Event//EN
VERSION:1.0
BEGIN:VEVENT
DTSTART:20170326T200000Z
DTEND:20170326T210000Z
DCREATED:20170106T155147Z
UID:ATEvent-47ffc13e6a63407c8b4b908a5868808f
SEQUENCE:0
LAST-MODIFIED:20170322T133440Z
SUMMARY:Free Family Concert  with Alex Taub
DESCRIPTION:Pianist Alex Taub and Vocalist Pamela Jones will play for 
 our Sunday family concert. Pamela and Alex have been performing togeth
 er for the better part of 3 years\, honing in a selection of tunes tha
 t covers some of the greatest song writers of the last century\, from 
 George Gershwin and Duke Ellington\, to Burt Bacharach and Elton John.
  Join them as they select a few of their favorites to perform in this 
 intimate duo setting. This event is free and open to the public. Be su
 re to stick around after the performance for refreshments.
LOCATION:FENCE Center
PRIORITY:3
TRANSP:0
END:VEVENT
END:VCALENDAR
