BEGIN:VCALENDAR
PRODID:-//AT Content Types//AT Event//EN
VERSION:2.0
METHOD:PUBLISH
BEGIN:VEVENT
DTSTAMP:20260423T062457Z
CREATED:20140430T134624Z
UID:ATEvent-a8597a95-ef26-4f69-9735-b756be73f2c1
LAST-MODIFIED:20140430T134625Z
SUMMARY:Free Family Concert featuring Cello Times Two
DTSTART:20140504T200000Z
DTEND:20140504T210000Z
DESCRIPTION:Cello Times Two presents a musical journey through six cen
 turies. Cellists Brenda Leonard and Benjamin Smith will play works fro
 m the 16th through the 21st centuries\, with at least one piece from e
 ach century.  Highlights of the recital include a rarely-heard work fr
 om the 16th century\, a set of duos by the Russian composer Reinhold G
 lière and a set of variations on the popular tune "Greensleeves" (17t
 h c.).
LOCATION:Fence Center
CATEGORIES:Family
CONTACT:Tracie Hanson\, 8288599021\, natureeducation@fence.org
CLASS:PUBLIC
END:VEVENT
END:VCALENDAR
