BEGIN:VCALENDAR
PRODID:-//AT Content Types//AT Event//EN
VERSION:2.0
METHOD:PUBLISH
BEGIN:VEVENT
DTSTAMP:20260421T102524Z
CREATED:20200109T214632Z
UID:ATEvent-358dac0ea12c4a898f0848eb7d243581
LAST-MODIFIED:20200114T011856Z
SUMMARY:Free Family Concert
DTSTART:20200216T210000Z
DTEND:20200216T220000Z
DESCRIPTION:Tim McWilliams will perform in the great room at FENCE. Fo
 llowing the performance refreshments will be served.
LOCATION:FENCE Center
CATEGORIES:Family
CONTACT:Tracie Hanson\, 8288599021\, info@fence.org
CLASS:PUBLIC
END:VEVENT
END:VCALENDAR
