BEGIN:VCALENDAR
PRODID:-//AT Content Types//AT Event//EN
VERSION:2.0
METHOD:PUBLISH
BEGIN:VEVENT
DTSTAMP:20260423T131732Z
CREATED:20151026T191400Z
UID:ATEvent-d3b1d310-3410-48f4-b65f-e91fc18ff7c9
LAST-MODIFIED:20151204T125135Z
SUMMARY:Free Family Concert with The Moon and You
DTSTART:20160117T210000Z
DTEND:20160117T220000Z
DESCRIPTION:Local duo The Moon and You is rooted in the rich music sce
 ne of Asheville\, NC. Playing cello\, guitar\, banjo and ukulele to ac
 company their soaring vocal harmonies\, if you closed your eyes you'd 
 swear there were more than two people onstage.
LOCATION:FENCE Center
CATEGORIES:Family
CONTACT:Tracie Hanson\, 828-859-9021\, info@fence.org
CLASS:PUBLIC
END:VEVENT
END:VCALENDAR
