BEGIN:VCALENDAR
PRODID:-//AT Content Types//AT Event//EN
VERSION:2.0
METHOD:PUBLISH
BEGIN:VEVENT
DTSTAMP:20260423T154936Z
CREATED:20260115T172221Z
UID:ATEvent-d2fdc050b1974420a1168a26f99ebc5f
LAST-MODIFIED:20260122T155946Z
SUMMARY:Postponed due to weather- Free Concert featuring Tina & Her Pony
DTSTART:20260125T210000Z
DTEND:20260125T223000Z
DESCRIPTION:**UPDATE: Our concert for this weekend has been postponed 
 due to the risk of winter weather! It has been rescheduled to Sunday\,
  February 8th at 4pm. **\n\nFENCE is kicking off 2026 with our first f
 ree concert of the year! January's concert will feature local musician
  Tina Collins of Tina & Her Pony. Join us for an afternoon of great mu
 sic\, following the performance attendees are encouraged to stick arou
 nd for light refreshments and conversation!
LOCATION:FENCE Center
CATEGORIES:Family
CONTACT:828-859-9021\, info@fence.org
CLASS:PUBLIC
END:VEVENT
END:VCALENDAR
