BEGIN:VCALENDAR
PRODID:-//AT Content Types//AT Event//EN
VERSION:2.0
METHOD:PUBLISH
BEGIN:VEVENT
DTSTAMP:20260423T120438Z
CREATED:20260122T160108Z
UID:ATEvent-9a1db21cfd0e46eaa73915756a9460b1
LAST-MODIFIED:20260122T160108Z
SUMMARY:Free Concert featuring Tina & Her Pony
DTSTART:20260208T210000Z
DTEND:20260208T220000Z
DESCRIPTION:FENCE is kicking off 2026 with our first free concert of t
 he year! January's concert will feature local musician Tina Collins of
  Tina & Her Pony. Join us for an afternoon of great music\, following 
 the performance attendees are encouraged to stick around for light ref
 reshments and conversation!
LOCATION:FENCE Center
CATEGORIES:Family
CONTACT:828-859-9021\, info@fence.org
CLASS:PUBLIC
END:VEVENT
END:VCALENDAR
