BEGIN:VCALENDAR
PRODID:-//AT Content Types//AT Event//EN
VERSION:1.0
BEGIN:VEVENT
DTSTART:20240324T120000Z
DTEND:20240324T210000Z
DCREATED:20240104T205133Z
UID:ATEvent-8aaa583c40f54d41bc2fada1c9a6ef44
SEQUENCE:0
LAST-MODIFIED:20240104T205133Z
SUMMARY:FRC XC Schooling
PRIORITY:3
TRANSP:0
END:VEVENT
END:VCALENDAR
