BEGIN:VCALENDAR
PRODID:-//AT Content Types//AT Event//EN
VERSION:1.0
BEGIN:VEVENT
DTSTART:20260404T120000Z
DTEND:20260404T210000Z
DCREATED:20251217T162750Z
UID:ATEvent-88a6b3f6819943e39a54efb9e9bcfc54
SEQUENCE:0
LAST-MODIFIED:20251217T162750Z
SUMMARY:FRC Working Equitation
PRIORITY:3
TRANSP:0
END:VEVENT
END:VCALENDAR
