BEGIN:VCALENDAR
PRODID:-//AT Content Types//AT Event//EN
VERSION:1.0
BEGIN:VEVENT
DTSTART:20140301T130000Z
DTEND:20140301T220000Z
DCREATED:20131204T211440Z
UID:ATEvent-00c587de-3b59-4021-9867-dd66553d497d
SEQUENCE:0
LAST-MODIFIED:20131204T211440Z
SUMMARY:FRC Stadium and Dressage
LOCATION:FENCE EQ side
PRIORITY:3
TRANSP:0
END:VEVENT
END:VCALENDAR
