BEGIN:VCALENDAR
PRODID:-//AT Content Types//AT Event//EN
VERSION:2.0
METHOD:PUBLISH
BEGIN:VEVENT
DTSTAMP:20260423T141839Z
CREATED:20180116T151821Z
UID:ATEvent-617143d94c794192acf9eb87f31996ca
LAST-MODIFIED:20180116T153556Z
SUMMARY:FRC Dressage Combined Test
DTSTART:20180324T120000Z
DTEND:20180324T210000Z
DESCRIPTION:FRC Dressage and Combined Test
LOCATION:FENCE Equestrian Side
CATEGORIES:Horse Show
CONTACT:info@fence.org
URL:http://foothillsridingclub.org/shows.html
CLASS:PUBLIC
END:VEVENT
END:VCALENDAR
