BEGIN:VCALENDAR
PRODID:-//AT Content Types//AT Event//EN
VERSION:2.0
METHOD:PUBLISH
BEGIN:VEVENT
DTSTAMP:20260423T130808Z
CREATED:20251217T163754Z
UID:ATEvent-7e6a4af170674aa3b0db06cb2c274687
LAST-MODIFIED:20251217T163754Z
SUMMARY:FRC Show
DTSTART:20260523T120000Z
DTEND:20260523T210000Z
CATEGORIES:Horse Show
CLASS:PUBLIC
END:VEVENT
END:VCALENDAR
