BEGIN:VCALENDAR
PRODID:-//AT Content Types//AT Event//EN
VERSION:1.0
BEGIN:VEVENT
DTSTART:20231104T120000Z
DTEND:20231104T210000Z
DCREATED:20230117T202440Z
UID:ATEvent-66472db7f68c4b67bf36d4f238747927
SEQUENCE:0
LAST-MODIFIED:20230117T202440Z
SUMMARY:FRC Show
LOCATION:FENCE Equestrian Side
PRIORITY:3
TRANSP:0
END:VEVENT
END:VCALENDAR
