BEGIN:VCALENDAR
PRODID:-//AT Content Types//AT Event//EN
VERSION:2.0
METHOD:PUBLISH
BEGIN:VEVENT
DTSTAMP:20260423T141908Z
CREATED:20210122T204324Z
UID:ATEvent-d819ba5dd16f467783de2dc68409535e
LAST-MODIFIED:20210122T204459Z
SUMMARY:FRC SHow
DTSTART:20210904T120000Z
DTEND:20210904T210000Z
LOCATION:FENCE Equestrian Side
CATEGORIES:Horse Show
URL:http://www.foothillsridingclub.org
CLASS:PUBLIC
END:VEVENT
END:VCALENDAR
