BEGIN:VCALENDAR
PRODID:-//AT Content Types//AT Event//EN
VERSION:1.0
BEGIN:VEVENT
DTSTART:20210529T120000Z
DTEND:20210529T190000Z
DCREATED:20210122T201957Z
UID:ATEvent-c38dc850e6d544cf93d74b8c36d82f22
SEQUENCE:0
LAST-MODIFIED:20210122T201957Z
SUMMARY:FRC SHow
LOCATION:FENCE Equestrian Side
PRIORITY:3
TRANSP:0
END:VEVENT
END:VCALENDAR
