BEGIN:VCALENDAR
PRODID:-//AT Content Types//AT Event//EN
VERSION:1.0
BEGIN:VEVENT
DTSTART:20131027T120000Z
DTEND:20131027T210000Z
DCREATED:20130322T152111Z
UID:ATEvent-4051c2d4-9cb2-4828-9f7c-2f0b04be2dc6
SEQUENCE:0
LAST-MODIFIED:20131021T150144Z
SUMMARY:FRC Horse Trials - Canceled
LOCATION:FENCE EQ side
PRIORITY:3
TRANSP:0
END:VEVENT
END:VCALENDAR
