BEGIN:VCALENDAR
PRODID:-//AT Content Types//AT Event//EN
VERSION:1.0
BEGIN:VEVENT
DTSTART:20170715T120000Z
DTEND:20170715T210000Z
DCREATED:20170105T175722Z
UID:ATEvent-9f2a4a9b78e64caeb672c8a56a6c7c26
SEQUENCE:0
LAST-MODIFIED:20170105T175722Z
SUMMARY:FRC Schooling Day
LOCATION:FENCE Equestrian Side
PRIORITY:3
TRANSP:0
END:VEVENT
END:VCALENDAR
