BEGIN:VCALENDAR
PRODID:-//AT Content Types//AT Event//EN
VERSION:2.0
METHOD:PUBLISH
BEGIN:VEVENT
DTSTAMP:20260423T114731Z
CREATED:20180116T151223Z
UID:ATEvent-358e13512cc24728adb3370be0cd784a
LAST-MODIFIED:20180116T151224Z
SUMMARY:FRC Schooling
DTSTART:20180304T130000Z
DTEND:20180304T220000Z
DESCRIPTION:XC Schooling at FENCE
CATEGORIES:Schooling
URL:http://foothillsridingclub.org/shows.html
CLASS:PUBLIC
END:VEVENT
END:VCALENDAR
