BEGIN:VCALENDAR
PRODID:-//AT Content Types//AT Event//EN
VERSION:1.0
BEGIN:VEVENT
DTSTART:20170401T120000Z
DTEND:20170401T210000Z
DCREATED:20170327T201355Z
UID:ATEvent-1fe8979e34bc44bd9d2adaf2dccece04
SEQUENCE:0
LAST-MODIFIED:20170331T151150Z
SUMMARY:FRC Horse Show
LOCATION:FENCE Equestrian Side
PRIORITY:3
TRANSP:0
END:VEVENT
END:VCALENDAR
