BEGIN:VCALENDAR
PRODID:-//AT Content Types//AT Event//EN
VERSION:1.0
BEGIN:VEVENT
DTSTART:20230902T120000Z
DTEND:20230902T210000Z
DCREATED:20230117T201226Z
UID:ATEvent-9ee458b0f59d4705a5e383b9fc3f103e
SEQUENCE:0
LAST-MODIFIED:20230117T201226Z
SUMMARY:FRC Horse Show
LOCATION:FENCE Equestrian Side
PRIORITY:3
TRANSP:0
END:VEVENT
END:VCALENDAR
