BEGIN:VCALENDAR
PRODID:-//AT Content Types//AT Event//EN
VERSION:1.0
BEGIN:VEVENT
DTSTART:20230520T120000Z
DTEND:20230520T210000Z
DCREATED:20230117T200015Z
UID:ATEvent-3cbe158f8e844a5e90abc32af232a380
SEQUENCE:0
LAST-MODIFIED:20230117T200016Z
SUMMARY:FRC Horse Show
LOCATION:FENCE Equestrian Side
PRIORITY:3
TRANSP:0
END:VEVENT
END:VCALENDAR
