BEGIN:VCALENDAR
PRODID:-//AT Content Types//AT Event//EN
VERSION:1.0
BEGIN:VEVENT
DTSTART:20180221T233000Z
DTEND:20180222T010000Z
DCREATED:20180125T191821Z
UID:ATEvent-dc2608a5659a4d8db975bcb399623199
SEQUENCE:0
LAST-MODIFIED:20180206T153542Z
SUMMARY:FRC Educational Seminar
DESCRIPTION:Topic: Laminitis & hoof health.\nPresenter: Bibi Freer DVM
  of Freer Equine and Jeff Pauley of Pauley Farrier/Hoofcare
LOCATION:FENCE Center
PRIORITY:3
TRANSP:0
END:VEVENT
END:VCALENDAR
