BEGIN:VCALENDAR
PRODID:-//AT Content Types//AT Event//EN
VERSION:1.0
BEGIN:VEVENT
DTSTART:20190320T223000Z
DTEND:20190321T000000Z
DCREATED:20181016T193511Z
UID:ATEvent-2d52770a9a174e8b935377ae51cbecff
SEQUENCE:0
LAST-MODIFIED:20181016T193511Z
SUMMARY:FRC Educational Seminar
LOCATION:FENCE Great Room
PRIORITY:3
TRANSP:0
END:VEVENT
END:VCALENDAR
