BEGIN:VCALENDAR
PRODID:-//AT Content Types//AT Event//EN
VERSION:2.0
METHOD:PUBLISH
BEGIN:VEVENT
DTSTAMP:20260423T105252Z
CREATED:20181016T191754Z
UID:ATEvent-95dd2d14732d408c84e544ad7036cde0
LAST-MODIFIED:20181016T191754Z
SUMMARY:FRC Educational Seminar
DTSTART:20190220T233000Z
DTEND:20190221T010000Z
LOCATION:FENCE Great Room
CATEGORIES:Training
CONTACT:828-859-9021\, info@fence.org
URL:http://www.foothillsridingclub.org/calendar.html
CLASS:PUBLIC
END:VEVENT
END:VCALENDAR
