BEGIN:VCALENDAR
PRODID:-//AT Content Types//AT Event//EN
VERSION:1.0
BEGIN:VEVENT
DTSTART:20181114T233000Z
DTEND:20181115T010000Z
DCREATED:20180125T194724Z
UID:ATEvent-31d32f1f08874577ab0fb7138f9865c9
SEQUENCE:0
LAST-MODIFIED:20181108T124954Z
SUMMARY:FRC Educational Seminar
DESCRIPTION:Topic: Donkeys and Mules 101
LOCATION:FENCE Center
PRIORITY:3
TRANSP:0
END:VEVENT
END:VCALENDAR
