BEGIN:VCALENDAR
PRODID:-//AT Content Types//AT Event//EN
VERSION:1.0
BEGIN:VEVENT
DTSTART:20181017T223000Z
DTEND:20181018T000000Z
DCREATED:20180125T194533Z
UID:ATEvent-54a7babe00df4295954119d474132788
SEQUENCE:0
LAST-MODIFIED:20190322T193016Z
SUMMARY:FRC Educational Seminar
DESCRIPTION:Topic: Equine Chiropractic and Massage / Body Work. Presnt
 ers: Nicole Watts\, Equine Therapy and Natasha Jaskiewicz\, DC\, Equin
 e Chiropractic and Erin Langley\, DVM
LOCATION:FENCE Center
PRIORITY:3
TRANSP:0
END:VEVENT
END:VCALENDAR
