BEGIN:VCALENDAR
PRODID:-//AT Content Types//AT Event//EN
VERSION:1.0
BEGIN:VEVENT
DTSTART:20180815T223000Z
DTEND:20180816T000000Z
DCREATED:20180125T194028Z
UID:ATEvent-ff1a38cf0cf74816b679a2a8b878ac04
SEQUENCE:0
LAST-MODIFIED:20180125T194104Z
SUMMARY:FRC Educational Seminar
DESCRIPTION:Topic: Pasture Management.\nPresenter: Noah Henson\, Polk 
 County NC Agriculture Extension
LOCATION:FENCE Center
PRIORITY:3
TRANSP:0
END:VEVENT
END:VCALENDAR
