BEGIN:VCALENDAR
PRODID:-//AT Content Types//AT Event//EN
VERSION:2.0
METHOD:PUBLISH
BEGIN:VEVENT
DTSTAMP:20260423T130925Z
CREATED:20180125T193623Z
UID:ATEvent-d436d1e299a841c09fcb395eaebc8621
LAST-MODIFIED:20180125T193623Z
SUMMARY:FRC Educational Seminar
DTSTART:20180516T223000Z
DTEND:20180517T000000Z
DESCRIPTION:Topic: Trail riding & trail etiquette.\nPresenter: Dot Moy
 er\, co-presenter Judith Kerns of FETA
LOCATION:FENCE Center
CATEGORIES:Training
CONTACT:Tracie Hanson\, 828-859-9021\, info@fence.org
CLASS:PUBLIC
END:VEVENT
END:VCALENDAR
