BEGIN:VCALENDAR
PRODID:-//AT Content Types//AT Event//EN
VERSION:2.0
METHOD:PUBLISH
BEGIN:VEVENT
DTSTAMP:20260423T205015Z
CREATED:20180125T192743Z
UID:ATEvent-7d70d572907a4bf4b0d72c970443cdea
LAST-MODIFIED:20180125T193648Z
SUMMARY:FRC Educational Seminar
DTSTART:20180418T223000Z
DTEND:20180419T000000Z
DESCRIPTION:Topic: Truck and trailer maintenance and repairs.\nPresent
 er: Jim Zygmont
LOCATION:FENCE Center
CATEGORIES:Training
CONTACT:Tracie Hanson\, 828-859-9021\, info@fence.org
CLASS:PUBLIC
END:VEVENT
END:VCALENDAR
