BEGIN:VCALENDAR
PRODID:-//AT Content Types//AT Event//EN
VERSION:1.0
BEGIN:VEVENT
DTSTART:20190515T223000Z
DTEND:20190516T000000Z
DCREATED:20181016T202404Z
UID:ATEvent-36bb7485b82a44b096cd0c8801e4311c
SEQUENCE:0
LAST-MODIFIED:20181016T202405Z
SUMMARY:FRC Educational Seminar
LOCATION:FENCE Great Room
PRIORITY:3
TRANSP:0
END:VEVENT
END:VCALENDAR
