BEGIN:VCALENDAR
PRODID:-//AT Content Types//AT Event//EN
VERSION:1.0
BEGIN:VEVENT
DTSTART:20190619T223000Z
DTEND:20190620T000000Z
DCREATED:20181016T202305Z
UID:ATEvent-a001faf4407546539c7b2a271aa7c501
SEQUENCE:0
LAST-MODIFIED:20181016T202305Z
SUMMARY:FRC Educational Seminar
LOCATION:FENCE Great Room
PRIORITY:3
TRANSP:0
END:VEVENT
END:VCALENDAR
