BEGIN:VCALENDAR
PRODID:-//AT Content Types//AT Event//EN
VERSION:1.0
BEGIN:VEVENT
DTSTART:20180321T223000Z
DTEND:20180322T000000Z
DCREATED:20180125T192459Z
UID:ATEvent-85d82583c70447b28d10eee9ea4d300c
SEQUENCE:0
LAST-MODIFIED:20180125T193706Z
SUMMARY:FRC Educational Seminar
DESCRIPTION:Topic: Equine dental health.\nPresenter: Jaime DVM of Free
 r Equine
LOCATION:FENCE Center
PRIORITY:3
TRANSP:0
END:VEVENT
END:VCALENDAR
