BEGIN:VCALENDAR
PRODID:-//AT Content Types//AT Event//EN
VERSION:2.0
METHOD:PUBLISH
BEGIN:VEVENT
DTSTAMP:20260423T142314Z
CREATED:20190103T205322Z
UID:ATEvent-be6a2661ec6841c582e1f02d179df99d
LAST-MODIFIED:20190221T153142Z
SUMMARY:FRC Dressage
DTSTART:20190330T120000Z
DTEND:20190330T210000Z
LOCATION:FENCE Equestrian Side
CATEGORIES:Schooling
URL:http://www.foothillsridingclub.org
CLASS:PUBLIC
END:VEVENT
END:VCALENDAR
