BEGIN:VCALENDAR
PRODID:-//AT Content Types//AT Event//EN
VERSION:2.0
METHOD:PUBLISH
BEGIN:VEVENT
DTSTAMP:20260423T131456Z
CREATED:20151026T195549Z
UID:ATEvent-9773065a-9cef-465b-8ae9-d28f7dc39529
LAST-MODIFIED:20151026T195549Z
SUMMARY:FRC Dressage/Stadium
DTSTART:20160528T120000Z
DTEND:20160528T210000Z
LOCATION:FENCE Equestrian Side
CATEGORIES:Schooling Show
CLASS:PUBLIC
END:VEVENT
END:VCALENDAR
