BEGIN:VCALENDAR
PRODID:-//AT Content Types//AT Event//EN
VERSION:2.0
METHOD:PUBLISH
BEGIN:VEVENT
DTSTAMP:20260423T143822Z
CREATED:20230117T200920Z
UID:ATEvent-f2536e358e31438fa2d5c682c9bde41d
LAST-MODIFIED:20230117T200921Z
SUMMARY:FRC Dressage Show
DTSTART:20230715T120000Z
DTEND:20230715T210000Z
LOCATION:FENCE Equestrian Side
CATEGORIES:Horse Show
URL:http://foothillsridingclub.org
CLASS:PUBLIC
END:VEVENT
END:VCALENDAR
