BEGIN:VCALENDAR
PRODID:-//AT Content Types//AT Event//EN
VERSION:2.0
METHOD:PUBLISH
BEGIN:VEVENT
DTSTAMP:20260423T171115Z
CREATED:20190123T141814Z
UID:ATEvent-1d7a79cc186749548bc130c5af6444cf
LAST-MODIFIED:20190123T141815Z
SUMMARY:FRC Dressage/Combined Training
DTSTART:20190907T120000Z
DTEND:20190907T210000Z
LOCATION:FENCE Equestrian Side
CATEGORIES:Schooling Show
CONTACT:Cathy Schwartz
URL:http://www.foothillsridingclub.org
CLASS:PUBLIC
END:VEVENT
END:VCALENDAR
