BEGIN:VCALENDAR
PRODID:-//AT Content Types//AT Event//EN
VERSION:2.0
METHOD:PUBLISH
BEGIN:VEVENT
DTSTAMP:20260423T131503Z
CREATED:20160822T133644Z
UID:ATEvent-e9c13f913ced4459be0a6fb85e658d53
LAST-MODIFIED:20160822T134357Z
SUMMARY:FRC Dressage and Combined Test
DTSTART:20160917T120000Z
DTEND:20160917T200000Z
LOCATION:FENCE Equestrian side
CATEGORIES:Schooling Show
CONTACT:Cathy Schwartz\, smokeyhollowfarm@windstream.net
URL:http://www.foothillsridingclub.org
CLASS:PUBLIC
END:VEVENT
END:VCALENDAR
