BEGIN:VCALENDAR
PRODID:-//AT Content Types//AT Event//EN
VERSION:2.0
METHOD:PUBLISH
BEGIN:VEVENT
DTSTAMP:20260423T105846Z
CREATED:20130228T145707Z
UID:ATEvent-f404ab0b-8332-488d-9488-3945d4d08362
LAST-MODIFIED:20130228T145708Z
SUMMARY:FRC Dressage and Jumping Schooling Show
DTSTART:20130302T130000Z
DTEND:20130302T220000Z
LOCATION:Fence EQ side
CATEGORIES:Schooling Show
CONTACT:Margo Savage\, 828-863-4924
CLASS:PUBLIC
END:VEVENT
END:VCALENDAR
