BEGIN:VCALENDAR
PRODID:-//AT Content Types//AT Event//EN
VERSION:1.0
BEGIN:VEVENT
DTSTART:20260718T120000Z
DTEND:20260718T210000Z
DCREATED:20251217T181249Z
UID:ATEvent-84569a63a6cd47689d113ef572d53c78
SEQUENCE:0
LAST-MODIFIED:20251217T181249Z
SUMMARY:FRC Dressage
PRIORITY:3
TRANSP:0
END:VEVENT
END:VCALENDAR
