BEGIN:VCALENDAR
PRODID:-//AT Content Types//AT Event//EN
VERSION:2.0
METHOD:PUBLISH
BEGIN:VEVENT
DTSTAMP:20260423T171119Z
CREATED:20231211T202342Z
UID:ATEvent-36e3ee9291a6475386875a896611cdfe
LAST-MODIFIED:20231211T202342Z
SUMMARY:FRC Dressage
DTSTART:20240713T120000Z
DTEND:20240713T210000Z
LOCATION:FENCE Equestrian Side
CATEGORIES:Horse Show
CLASS:PUBLIC
END:VEVENT
END:VCALENDAR
