BEGIN:VCALENDAR
PRODID:-//AT Content Types//AT Event//EN
VERSION:1.0
BEGIN:VEVENT
DTSTART:20220716T110000Z
DTEND:20220716T220000Z
DCREATED:20211213T171755Z
UID:ATEvent-28409329cf474cc7a89c77b3cbf8dd62
SEQUENCE:0
LAST-MODIFIED:20220209T152213Z
SUMMARY:FRC Dressage
LOCATION:Equestrian side
PRIORITY:3
TRANSP:0
END:VEVENT
END:VCALENDAR
