BEGIN:VCALENDAR
PRODID:-//AT Content Types//AT Event//EN
VERSION:1.0
BEGIN:VEVENT
DTSTART:20210717T120000Z
DTEND:20210717T190000Z
DCREATED:20210122T203755Z
UID:ATEvent-66ba40cd37fa49c89ffe523c3469a533
SEQUENCE:0
LAST-MODIFIED:20210122T203755Z
SUMMARY:FRC Dressage
LOCATION:FENCE Equestrian Side
PRIORITY:3
TRANSP:0
END:VEVENT
END:VCALENDAR
