BEGIN:VCALENDAR
PRODID:-//AT Content Types//AT Event//EN
VERSION:1.0
BEGIN:VEVENT
DTSTART:20201031T120000Z
DTEND:20201031T210000Z
DCREATED:20200110T214201Z
UID:ATEvent-38fe849b4fea45009faee8a44ae677a8
SEQUENCE:0
LAST-MODIFIED:20200110T214201Z
SUMMARY:FRC Dressage
LOCATION:FENCE Equestrian Side
PRIORITY:3
TRANSP:0
END:VEVENT
END:VCALENDAR
